BEGIN:VCALENDAR
PRODID:cjcc.georgia.gov
VERSION:2.0
CALSCALE:GREGORIAN
BEGIN:VEVENT
UID:8eaffa26aadbd46c91eab1ec726a0a7c
DTSTAMP:20260425T002451Z
SUMMARY:Investigating & Responding to Stalking
DESCRIPTION:Free P.O.S.T. Training\n\nSponsored by:Cornelia Police Departme
 nt & Circle of Hope\n\nSee flyer below for more information:
URL:https://cjcc.georgia.gov/events/2017-01-23/investigating-responding-sta
 lking
DTSTART;VALUE=DATE:20170123
DTEND;VALUE=DATE:20170124
LOCATION:Cornelia Police Department Training Center 163 Larkin Street  Corn
 elia\, GA 30531 US
X-LIC-LOCATION:America/New_York
X-WR-TIMEZONE:America/New_York
END:VEVENT
BEGIN:VTIMEZONE
TZID:America/New_York
END:VTIMEZONE
END:VCALENDAR
