BEGIN:VCALENDAR
PRODID:cjcc.georgia.gov
VERSION:2.0
CALSCALE:GREGORIAN
BEGIN:VEVENT
UID:699794a442c9d0b40a59cb3509c96d79
DTSTAMP:20260424T234800Z
SUMMARY:2016 S.T.O.P. VAWA Annual Implementation Plan Meeting
DESCRIPTION:Please RSVP  here.  If you have any questions\, please contact 
 Tiffany Williams\, Planner at tiffany.williams@cjcc.ga.gov or via phone at
  404-657-2081 or Kyra Matthews\, Planner at kyra.matthews@cjcc.ga.gov or v
 ia phone at 404-654-1778. You may also call Shontel Wright at 404-657-1961
  with questions about this meeting or the 2014-2016 Implementation Plan.
URL:https://cjcc.georgia.gov/events/2016-12-01/2016-stop-vawa-annual-implem
 entation-plan-meeting
DTSTART;VALUE=DATE:20161201
DTEND;VALUE=DATE:20161202
LOCATION:Georgia Public Training Center (GPSTC) 1000 Indian Springs Drive  
 Forsyth\, GA 31029 US
X-LIC-LOCATION:America/New_York
X-WR-TIMEZONE:America/New_York
END:VEVENT
BEGIN:VTIMEZONE
TZID:America/New_York
END:VTIMEZONE
END:VCALENDAR
