BEGIN:VCALENDAR
PRODID:cjcc.georgia.gov
VERSION:2.0
CALSCALE:GREGORIAN
BEGIN:VEVENT
UID:b67bb01b79b900ad2004ff73eb30a754
DTSTAMP:20260424T232052Z
SUMMARY:Dynamics of Domestic Violence_12/13
DESCRIPTION:TOPICDynamics of Domestic ViolenceTRAINER(S)Vicki de MartinezIN
 TENDED AUDIENCELaw EnforcementMAX CAPACITY15COSTFREEREGISTRATION INFO & DE
 ADLINEOPENCONTACTVicki de Martinez706-768-3027vdemartinez@gacircleofhope.o
 rg
URL:https://cjcc.georgia.gov/events/2016-12-13/dynamics-domestic-violence12
 13
DTSTART;VALUE=DATE:20161213
DTEND;VALUE=DATE:20161214
LOCATION:Habersham County Sheriff's Office South Precinct - Anderson Villag
 e Hwy 365  Alto\, GA 30511 US
X-LIC-LOCATION:America/New_York
X-WR-TIMEZONE:America/New_York
END:VEVENT
BEGIN:VTIMEZONE
TZID:America/New_York
END:VTIMEZONE
END:VCALENDAR
