BEGIN:VCALENDAR
PRODID:cjcc.georgia.gov
VERSION:2.0
CALSCALE:GREGORIAN
BEGIN:VEVENT
UID:51df6e041a673ff410efdae9a04edad1
DTSTAMP:20260424T232052Z
SUMMARY:Dynamics of Domestic Violence_9/13
DESCRIPTION:TOPICDynamics of Domestic ViolenceTRAINER(S)Vicki de MartinezIN
 TENDED AUDIENCELaw EnforcementMAX CAPACITY5COSTFREEREGITRATION INFO & DEAD
 LINEOPENCONTACTVicki de Martinez706-768-3027vdemartinez@gacircleofhope.org
URL:https://cjcc.georgia.gov/events/2016-09-13/dynamics-domestic-violence91
 3
DTSTART;VALUE=DATE:20160913
DTEND;VALUE=DATE:20160914
LOCATION:Cornelia Police Department 163 Larkin Street  Cornelia\, GA 30531 
 US
X-LIC-LOCATION:America/New_York
X-WR-TIMEZONE:America/New_York
END:VEVENT
BEGIN:VTIMEZONE
TZID:America/New_York
END:VTIMEZONE
END:VCALENDAR
