BEGIN:VCALENDAR
PRODID:cjcc.georgia.gov
VERSION:2.0
CALSCALE:GREGORIAN
BEGIN:VEVENT
UID:3d8f83bf9c3b12f86dfeebaa7d97e7fa
DTSTAMP:20260425T000400Z
SUMMARY:Dynamics of Domestic Violence_9/6
DESCRIPTION:TOPICDynamics of Domestic ViolenceTRAINER(S)Vicki de MartinezIN
 TENDED AUDIENCELaw EnforcementMAX CAPACITY5COSTFREEREGISTRATION INFO & DEA
 DLINEOPENCONTACTVicki de Martinez706-768-3027vdemartinez@gacircleofhope.or
 g
URL:https://cjcc.georgia.gov/events/2016-09-06/dynamics-domestic-violence96
DTSTART;VALUE=DATE:20160906
DTEND;VALUE=DATE:20160907
LOCATION:Cornelia Police Department 163 Larkin Street  Cornelia\, GA 30531 
 US
X-LIC-LOCATION:America/New_York
X-WR-TIMEZONE:America/New_York
END:VEVENT
BEGIN:VTIMEZONE
TZID:America/New_York
END:VTIMEZONE
END:VCALENDAR
