BEGIN:VCALENDAR
PRODID:cjcc.georgia.gov
VERSION:2.0
CALSCALE:GREGORIAN
BEGIN:VEVENT
UID:bd1aeb5a2149181fa0211a1acc5be4ed
DTSTAMP:20260424T234759Z
SUMMARY:HUMAN TRAFFICKING TRAINING
DESCRIPTION:Attendees must register to receive a parking pass via email or 
 fax. \n\nContact: Betsey Ramsey at bramsey@safeservices.org for registrati
 on or more information.
URL:https://cjcc.georgia.gov/events/2016-09-29/human-trafficking-training
DTSTART;VALUE=DATE:20160929
DTEND;VALUE=DATE:20160930
LOCATION:North Georgia Technical College 121 Meeks Avenue  Blairsville\, GA
  30512 US
X-LIC-LOCATION:America/New_York
X-WR-TIMEZONE:America/New_York
END:VEVENT
BEGIN:VTIMEZONE
TZID:America/New_York
END:VTIMEZONE
END:VCALENDAR
