BEGIN:VCALENDAR
VERSION:2.0
PRODID:cjcc.georgia.gov
X-WR-TIMEZONE:America/New_York
BEGIN:VTIMEZONE
TZID:America/New_York
X-LIC-LOCATION:America/New_York
END:VTIMEZONE
BEGIN:VEVENT
UID:6162eb4126992
DTSTART;TZID=UTC:20151204T140000
SEQUENCE:0
TRANSP:OPAQUE
DTEND;TZID=UTC:20151204T210000
URL:https://cjcc.georgia.gov/events/2015-12-04/2015-stop-vawa-implementatio
 n-plan-meeting
LOCATION:Georgia Public Safety Training Center (GPSTC) at Bay A 1000 Indian
  Springs Drive FORSYTH\, GA 31029
SUMMARY:2015 S.T.O.P. VAWA Implementation Plan Meeting
CLASS:PUBLIC
DESCRIPTION:Every three years\, CJCC is required to submit an Implementatio
 n Plan to the Office on Violence Against Women to detail how the state wil
 l allocate S.T.O.P. VAWA funds. CJCC’s Victim Assistance Unit is pleased
  to invite stakeholders to attend the annual Implementation Plan Committee
  Meeting. This meeting will be used to assess progress on the 2014-2016 Pl
 an and propose updates and revisions to OVW for 2015-2016.\n\nThe meeting 
 will be held from 9am-4pm\, with a break for lunch from 11:30am-12:30pm. U
 nfortunately CJCC cannot provide lunch but GPSTC has a cafeteria convenien
 tly located on the premises. The deadline for registration is Tuesday\, De
 cember 1\, 2015. If you have any questions please contact Shontel Wright a
 t 404-657-1961 or Tiffany Williams at 404-657-2081.CLICK HERE TO REGISTER
DTSTAMP:20211010T093145Z
END:VEVENT
END:VCALENDAR