BEGIN:VCALENDAR
VERSION:2.0
PRODID:cjcc.georgia.gov
X-WR-TIMEZONE:America/New_York
BEGIN:VTIMEZONE
TZID:America/New_York
X-LIC-LOCATION:America/New_York
END:VTIMEZONE
BEGIN:VEVENT
UID:6162eb49a4aba
DTSTART;TZID=UTC:20150916T143000
SEQUENCE:0
TRANSP:OPAQUE
DTEND;TZID=UTC:20150916T150000
URL:https://cjcc.georgia.gov/events/2015-09-16/criminal-justice-grants-comm
 ittee-meeting
LOCATION:104 Marietta Street\, NW State Bar Building\, Third Floor\, Room 3
  ATLANTA\, GA 30303
SUMMARY:Criminal Justice Grants Committee Meeting
CLASS:PUBLIC
DESCRIPTION:Conference Call Information:\n\nNumber: 1-800-250-2600Code: 104
 48926# \n\nIf you have any questions\, please\n\nSamantha WolfProgram Dire
 ctor Juvenile Justice UnitPhone: 404-657-1958Samantha.Wolf@cjcc.ga.gov
DTSTAMP:20211010T093153Z
END:VEVENT
END:VCALENDAR